BEGIN:VCALENDAR
VERSION:2.0
PRODID:-// - ECPv6.15.20//NONSGML v1.0//EN
CALSCALE:GREGORIAN
METHOD:PUBLISH
X-ORIGINAL-URL:https://seedsofhopefarm.org
X-WR-CALDESC:Events for 
REFRESH-INTERVAL;VALUE=DURATION:PT1H
X-Robots-Tag:noindex
X-PUBLISHED-TTL:PT1H
BEGIN:VTIMEZONE
TZID:UTC
BEGIN:STANDARD
TZOFFSETFROM:+0000
TZOFFSETTO:+0000
TZNAME:UTC
DTSTART:20240101T000000
END:STANDARD
END:VTIMEZONE
BEGIN:VEVENT
DTSTART;TZID=UTC:20260310T140000
DTEND;TZID=UTC:20260310T150000
DTSTAMP:20260419T124249
CREATED:20260127T172349Z
LAST-MODIFIED:20260305T185053Z
UID:2218-1773151200-1773154800@seedsofhopefarm.org
SUMMARY:Fruit Tree Pruning Demo
DESCRIPTION:
URL:https://seedsofhopefarm.org/event/fruit-tree-pruning-demo/
LOCATION:CAASTLC’s Seeds of Hope Farm\, 1120 Trampe Ave.\, MO\, 63138\, United States
ORGANIZER;CN="Farmer Randy":MAILTO:rtempel@caastlc.org
END:VEVENT
BEGIN:VEVENT
DTSTART;TZID=UTC:20251024T153000
DTEND;TZID=UTC:20251024T173000
DTSTAMP:20260419T124249
CREATED:20251014T192425Z
LAST-MODIFIED:20251014T192425Z
UID:1558-1761319800-1761327000@seedsofhopefarm.org
SUMMARY:Fall Fest & Trunk or Treat
DESCRIPTION:
URL:https://seedsofhopefarm.org/event/fall-fest-trunk-or-treat/
LOCATION:CAASTLC’s Seeds of Hope Farm\, 1120 Trampe Ave.\, MO\, 63138\, United States
END:VEVENT
BEGIN:VEVENT
DTSTART;TZID=UTC:20250916T170000
DTEND;TZID=UTC:20250916T190000
DTSTAMP:20260419T124249
CREATED:20250827T181834Z
LAST-MODIFIED:20250827T181834Z
UID:1452-1758042000-1758049200@seedsofhopefarm.org
SUMMARY:Cooking with the Farmers
DESCRIPTION:
URL:https://seedsofhopefarm.org/event/cooking-with-the-farmers-2/
LOCATION:CAASTLC’s Seeds of Hope Farm\, 1120 Trampe Ave.\, MO\, 63138\, United States
END:VEVENT
BEGIN:VEVENT
DTSTART;TZID=UTC:20250902T130000
DTEND;TZID=UTC:20250902T140000
DTSTAMP:20260419T124249
CREATED:20250824T040914Z
LAST-MODIFIED:20250824T040914Z
UID:1435-1756818000-1756821600@seedsofhopefarm.org
SUMMARY:Late Summer Fruit Tour
DESCRIPTION:
URL:https://seedsofhopefarm.org/event/late-summer-fruit-tour-2/
LOCATION:MO
END:VEVENT
BEGIN:VEVENT
DTSTART;TZID=UTC:20250826T130000
DTEND;TZID=UTC:20250826T140000
DTSTAMP:20260419T124249
CREATED:20250824T040701Z
LAST-MODIFIED:20250824T040701Z
UID:1432-1756213200-1756216800@seedsofhopefarm.org
SUMMARY:Late Summer Fruit Tour
DESCRIPTION:
URL:https://seedsofhopefarm.org/event/late-summer-fruit-tour/
LOCATION:MO
END:VEVENT
BEGIN:VEVENT
DTSTART;TZID=UTC:20250724T170000
DTEND;TZID=UTC:20250724T190000
DTSTAMP:20260419T124249
CREATED:20250730T201149Z
LAST-MODIFIED:20250730T201322Z
UID:1406-1753376400-1753383600@seedsofhopefarm.org
SUMMARY:Cooking with the Farmers
DESCRIPTION:
URL:https://seedsofhopefarm.org/event/cooking-with-the-farmers/
LOCATION:Bethany-Peace UCC\, 11952 Bellefontaine Rd.\, MO\, 63138
ATTACH;FMTTYPE=image/jpeg:https://seedsofhopefarm.org/wp-content/uploads/2025/02/cropped-20230626_183958.jpg
END:VEVENT
END:VCALENDAR